BEGIN:VCALENDAR
VERSION:2.0
PRODID:-//www.worben.ch//NONSGML kigkonsult.se iCalcreator 2.22//
CALSCALE:GREGORIAN
METHOD:PUBLISH
X-WR-TIMEZONE:Europe/Berlin
BEGIN:VEVENT
UID:20260421T225210CEST-9396KIH9fv@www.worben.ch
DTSTAMP:20260421T205210Z
DESCRIPTION:Klicken Sie auf den folgenden Link\, um weitere Informationen z
 ur Veranstaltung zu erhalten:\nhttp://www.worben.ch/de/abfallwirtschaft/ab
 fallkalender/detail/detail.php?i=
DTSTART;VALUE=DATE:20261016
LOCATION:
SUMMARY:Hauskehricht
END:VEVENT
END:VCALENDAR
